BEGIN:VCALENDAR
VERSION:2.0
PRODID:-//wp-events-plugin.com//7.2.3.1//EN
TZID:Europe/Berlin
X-WR-TIMEZONE:Europe/Berlin
BEGIN:VEVENT
UID:108@rv-hamminkeln.de
DTSTART;TZID=Europe/Berlin:20260530T000000
DTEND;TZID=Europe/Berlin:20260531T000000
DTSTAMP:20260331T100836Z
URL:https://rv-hamminkeln.de/events/gelaendetage-2026/
SUMMARY:Geländetage 2026
DESCRIPTION:\nUnser Geländeturnier ist online und kann genannt werden. 
 😍\n\n\n \n\n\nAm 30. und 31. Mai erwarten euch verschiedene Prüfungen
  bis zur Klasse A. \n\n\nSeid dabei\, wir freuen uns auf Euch!🥰\n\n\nht
 tps://www.nennung-online.de/turnier/ansehen/472622010/\n\n\n \n\n\nIhr ve
 rmisst weitere Geländepferdeprüfungen und Stil-Geländeritte? Notiert Eu
 ch den 01. August. In diesem Jahr veranstalten wir noch ein weiteres Gelä
 ndeturnier.😍\n    \n
ATTACH;FMTTYPE=image/jpeg:https://rv-hamminkeln.de/wp-content/uploads/2026
 /03/1.png
CATEGORIES:Veranstaltungen,Vielseitigkeitsturnier
END:VEVENT
BEGIN:VTIMEZONE
TZID:Europe/Berlin
X-LIC-LOCATION:Europe/Berlin
BEGIN:DAYLIGHT
DTSTART:20260329T030000
TZOFFSETFROM:+0100
TZOFFSETTO:+0200
TZNAME:CEST
END:DAYLIGHT
END:VTIMEZONE
END:VCALENDAR